BEGIN:VCALENDAR
VERSION:2.0
PRODID:SchoolNow
CALSCALE:GREGORIAN
BEGIN:VEVENT
UID:421fbf52-e9ac-11ef-b5b0-0eb194e7c9f7
DTSTAMP:20251216T214647Z
SUMMARY:LAST DAY OF SCHOOL (1/2 DAY STUDENTS)
URL;VALUE=URI:https://www.canoncityschools.org/schools/washington/calendar/
 7461045/last-day-of-school-1-2-day-students
DTSTART;VALUE=DATE:20260521
DTEND;VALUE=DATE:20260522
END:VEVENT
END:VCALENDAR
