BEGIN:VCALENDAR
VERSION:2.0
PRODID:SchoolNow
CALSCALE:GREGORIAN
BEGIN:VEVENT
UID:421fc33a-e9ac-11ef-b99a-0eb194e7c9f7
DTSTAMP:20251216T214648Z
SUMMARY:Board of Education meeting
LOCATION:101 N 14th St\, Cañon City\, CO 81212\, USA
URL;VALUE=URI:https://www.canoncityschools.org/schools/washington/calendar/
 7461048/board-of-education-meeting
DTSTART:20261012T233000Z
DTEND:20261013T003000Z
END:VEVENT
END:VCALENDAR
