BEGIN:VCALENDAR
VERSION:2.0
PRODID:SchoolNow
CALSCALE:GREGORIAN
BEGIN:VEVENT
UID:426b89d2-e9ac-11ef-a82f-0eb194e7c9f7
DTSTAMP:20251216T214648Z
SUMMARY:Board of Education meeting
LOCATION:101 N 14th St\, Cañon City\, CO 81212\, USA
URL;VALUE=URI:https://www.canoncityschools.org/schools/washington/calendar/
 7461151/board-of-education-meeting
DTSTART:20260928T233000Z
DTEND:20260929T003000Z
END:VEVENT
END:VCALENDAR
