BEGIN:VCALENDAR
VERSION:2.0
PRODID:SchoolNow
CALSCALE:GREGORIAN
BEGIN:VEVENT
UID:426b94ea-e9ac-11ef-be31-0eb194e7c9f7
DTSTAMP:20251216T214648Z
SUMMARY:THANKSGIVING HOLIDAY
URL;VALUE=URI:https://www.canoncityschools.org/schools/washington/calendar/
 7461158/thanksgiving-holiday
DTSTART;VALUE=DATE:20251124
DTEND;VALUE=DATE:20251125
END:VEVENT
END:VCALENDAR
