BEGIN:VCALENDAR
VERSION:2.0
PRODID:SchoolNow
CALSCALE:GREGORIAN
BEGIN:VEVENT
UID:426b98a0-e9ac-11ef-87bc-0eb194e7c9f7
DTSTAMP:20251216T214648Z
SUMMARY:THANKSGIVING HOLIDAY
URL;VALUE=URI:https://www.canoncityschools.org/schools/washington/calendar/
 7461162/thanksgiving-holiday
DTSTART;VALUE=DATE:20251128
DTEND;VALUE=DATE:20251129
END:VEVENT
END:VCALENDAR
