BEGIN:VCALENDAR
VERSION:2.0
PRODID:SchoolNow
CALSCALE:GREGORIAN
BEGIN:VEVENT
UID:426b9986-e9ac-11ef-99fc-0eb194e7c9f7
DTSTAMP:20251216T214648Z
SUMMARY:NO SCHOOL
URL;VALUE=URI:https://www.canoncityschools.org/schools/washington/calendar/
 7461163/no-school
DTSTART;VALUE=DATE:20250912
DTEND;VALUE=DATE:20250913
END:VEVENT
END:VCALENDAR
