BEGIN:VCALENDAR
VERSION:2.0
PRODID:SchoolNow
CALSCALE:GREGORIAN
BEGIN:VEVENT
UID:426b9d28-e9ac-11ef-9a3f-0eb194e7c9f7
DTSTAMP:20251216T214648Z
SUMMARY:NO SCHOOL (VETERANS DAY OBSERVED)
URL;VALUE=URI:https://www.canoncityschools.org/schools/washington/calendar/
 7461167/no-school-veterans-day-observed
DTSTART;VALUE=DATE:20251107
DTEND;VALUE=DATE:20251108
END:VEVENT
END:VCALENDAR
