BEGIN:VCALENDAR
VERSION:2.0
PRODID:SchoolNow
CALSCALE:GREGORIAN
BEGIN:VEVENT
UID:426b9fd0-e9ac-11ef-99c3-0eb194e7c9f7
DTSTAMP:20251216T214648Z
SUMMARY:CHRISTMAS HOLIDAY
URL;VALUE=URI:https://www.canoncityschools.org/schools/washington/calendar/
 7461170/christmas-holiday
DTSTART;VALUE=DATE:20251223
DTEND;VALUE=DATE:20251224
END:VEVENT
END:VCALENDAR
