BEGIN:VCALENDAR
VERSION:2.0
PRODID:SchoolNow
CALSCALE:GREGORIAN
BEGIN:VEVENT
UID:426ba1b0-e9ac-11ef-889d-0eb194e7c9f7
DTSTAMP:20251216T214648Z
SUMMARY:CHRISTMAS HOLIDAY
URL;VALUE=URI:https://www.canoncityschools.org/schools/washington/calendar/
 7461172/christmas-holiday
DTSTART;VALUE=DATE:20251225
DTEND;VALUE=DATE:20251226
END:VEVENT
END:VCALENDAR
