BEGIN:VCALENDAR
VERSION:2.0
PRODID:SchoolNow
CALSCALE:GREGORIAN
BEGIN:VEVENT
UID:426ba534-e9ac-11ef-a99f-0eb194e7c9f7
DTSTAMP:20251216T214648Z
SUMMARY:CHRISTMAS HOLIDAY
URL;VALUE=URI:https://www.canoncityschools.org/schools/washington/calendar/
 7461176/christmas-holiday
DTSTART;VALUE=DATE:20251229
DTEND;VALUE=DATE:20251230
END:VEVENT
END:VCALENDAR
