BEGIN:VCALENDAR
VERSION:2.0
PRODID:SchoolNow
CALSCALE:GREGORIAN
BEGIN:VEVENT
UID:426ba7d2-e9ac-11ef-9330-0eb194e7c9f7
DTSTAMP:20251216T214648Z
SUMMARY:CHRISTMAS HOLIDAY
URL;VALUE=URI:https://www.canoncityschools.org/schools/washington/calendar/
 7461179/christmas-holiday
DTSTART;VALUE=DATE:20260101
DTEND;VALUE=DATE:20260102
END:VEVENT
END:VCALENDAR
