BEGIN:VCALENDAR
VERSION:2.0
PRODID:SchoolNow
CALSCALE:GREGORIAN
BEGIN:VEVENT
UID:426baa70-e9ac-11ef-a1ae-0eb194e7c9f7
DTSTAMP:20251216T214648Z
SUMMARY:CHRISTMAS HOLIDAY
URL;VALUE=URI:https://www.canoncityschools.org/schools/washington/calendar/
 7461182/christmas-holiday
DTSTART;VALUE=DATE:20260104
DTEND;VALUE=DATE:20260105
END:VEVENT
END:VCALENDAR
