BEGIN:VCALENDAR
VERSION:2.0
PRODID:SchoolNow
CALSCALE:GREGORIAN
BEGIN:VEVENT
UID:426bb402-e9ac-11ef-a9d0-0eb194e7c9f7
DTSTAMP:20251216T214648Z
SUMMARY:NO SCHOOL
URL;VALUE=URI:https://www.canoncityschools.org/schools/washington/calendar/
 7461204/no-school
DTSTART;VALUE=DATE:20260515
DTEND;VALUE=DATE:20260516
END:VEVENT
END:VCALENDAR
