BEGIN:VCALENDAR
VERSION:2.0
PRODID:SchoolNow
CALSCALE:GREGORIAN
BEGIN:VEVENT
UID:426bb786-e9ac-11ef-a37e-0eb194e7c9f7
DTSTAMP:20251216T214648Z
SUMMARY:NO SCHOOL
URL;VALUE=URI:https://www.canoncityschools.org/schools/washington/calendar/
 7461214/no-school
DTSTART;VALUE=DATE:20260227
DTEND;VALUE=DATE:20260228
END:VEVENT
END:VCALENDAR
