BEGIN:VCALENDAR
VERSION:2.0
PRODID:SchoolNow
CALSCALE:GREGORIAN
BEGIN:VEVENT
UID:426bb862-e9ac-11ef-aa33-0eb194e7c9f7
DTSTAMP:20251216T214648Z
SUMMARY:NO SCHOOL (TEACHERS REPORT)
URL;VALUE=URI:https://www.canoncityschools.org/schools/washington/calendar/
 7461215/no-school-teachers-report
DTSTART;VALUE=DATE:20260313
DTEND;VALUE=DATE:20260314
END:VEVENT
END:VCALENDAR
