BEGIN:VCALENDAR
VERSION:2.0
PRODID:SchoolNow
CALSCALE:GREGORIAN
BEGIN:VEVENT
UID:426bba1a-e9ac-11ef-b4be-0eb194e7c9f7
DTSTAMP:20251216T214648Z
SUMMARY:KINDERGARTEN ROUNDUP
URL;VALUE=URI:https://www.canoncityschools.org/schools/washington/calendar/
 7461220/kindergarten-roundup
DTSTART;VALUE=DATE:20260422
DTEND;VALUE=DATE:20260423
END:VEVENT
END:VCALENDAR
