BEGIN:VCALENDAR
VERSION:2.0
PRODID:SchoolNow
CALSCALE:GREGORIAN
BEGIN:VEVENT
UID:e5f5bf3a-1a14-11f0-a00d-0affc00d29d7
DTSTAMP:20251216T214648Z
SUMMARY:Board of Education meeting
LOCATION:101 N 14th St\, Cañon City\, CO 81212\, USA
URL;VALUE=URI:https://www.canoncityschools.org/schools/washington/calendar/
 7931642/board-of-education-meeting
DTSTART:20261215T003000Z
DTEND:20261215T013000Z
END:VEVENT
END:VCALENDAR
