BEGIN:VCALENDAR
VERSION:2.0
PRODID:SchoolNow
CALSCALE:GREGORIAN
BEGIN:VEVENT
UID:6d5fe286-36f6-11f0-a743-0afffccc3d17
DTSTAMP:20251216T214648Z
SUMMARY:Board of Education meeting
LOCATION:101 N 14th St\, Cañon City\, CO 81212\, USA
URL;VALUE=URI:https://www.canoncityschools.org/schools/washington/calendar/
 8179490/board-of-education-meeting
DTSTART:20270112T003000Z
DTEND:20270112T013000Z
END:VEVENT
END:VCALENDAR
