BEGIN:VCALENDAR
VERSION:2.0
PRODID:SchoolNow
CALSCALE:GREGORIAN
BEGIN:VEVENT
UID:5d5a5446-4c79-11f0-855a-0a58a9feac02
DTSTAMP:20251216T214647Z
SUMMARY:October Count Day
URL;VALUE=URI:https://www.canoncityschools.org/schools/washington/calendar/
 8325122/october-count-day
DTSTART;VALUE=DATE:20251001
DTEND;VALUE=DATE:20251002
END:VEVENT
END:VCALENDAR
