BEGIN:VCALENDAR
VERSION:2.0
PRODID:SchoolNow
CALSCALE:GREGORIAN
BEGIN:VEVENT
UID:5d5a5540-4c79-11f0-9822-0a58a9feac02
DTSTAMP:20251216T214647Z
SUMMARY:Memorial Day Holiday
URL;VALUE=URI:https://www.canoncityschools.org/schools/washington/calendar/
 8325123/memorial-day-holiday
DTSTART;VALUE=DATE:20260525
DTEND;VALUE=DATE:20260526
END:VEVENT
END:VCALENDAR
