BEGIN:VCALENDAR
VERSION:2.0
PRODID:SchoolNow
CALSCALE:GREGORIAN
BEGIN:VEVENT
UID:876be720-5d01-11f0-aab9-0afff98450fd
DTSTAMP:20251216T214648Z
SUMMARY:Board of Education meeting
LOCATION:101 N 14th St\, Cañon City\, CO 81212\, USA
URL;VALUE=URI:https://www.canoncityschools.org/schools/washington/calendar/
 8400062/board-of-education-meeting
DTSTART:20270309T003000Z
DTEND:20270309T013000Z
END:VEVENT
END:VCALENDAR
