BEGIN:VCALENDAR
VERSION:2.0
PRODID:SchoolNow
CALSCALE:GREGORIAN
BEGIN:VEVENT
UID:1e28ff44-797d-11f0-adc7-028b68f9b493
DTSTAMP:20251216T214648Z
SUMMARY:Board of Education meeting
LOCATION:101 N 14th St\, Cañon City\, CO 81212\, USA
URL;VALUE=URI:https://www.canoncityschools.org/schools/washington/calendar/
 8509295/board-of-education-meeting
DTSTART:20270412T233000Z
DTEND:20270413T003000Z
END:VEVENT
END:VCALENDAR
