BEGIN:VCALENDAR
VERSION:2.0
PRODID:SchoolNow
CALSCALE:GREGORIAN
BEGIN:VEVENT
UID:602a79d2-a078-11f0-be9b-0affe3b30109
DTSTAMP:20251003T164531Z
SUMMARY:Walk\, Bike\, Roll or Stroll to School
URL;VALUE=URI:https://www.canoncityschools.org/schools/washington/calendar/
 8691372/walk-bike-roll-or-stroll-to-school
DTSTART:20251008T131500Z
DTEND:20251008T133500Z
END:VEVENT
END:VCALENDAR
