BEGIN:VCALENDAR
VERSION:2.0
PRODID:SchoolNow
CALSCALE:GREGORIAN
BEGIN:VEVENT
UID:7faf7fc4-b5bc-11f0-840a-0a58a9feac02
DTSTAMP:20251216T214647Z
SUMMARY:DRILL ON FRIDAY OCT 31 - LOCK DOWN\, EVACUATION & REUNIFICATION
URL;VALUE=URI:https://www.canoncityschools.org/schools/washington/calendar/
 8761726/drill-on-friday-oct-31-lock-down-evacuation-reunification
DTSTART:20251031T140000Z
DTEND:20251031T180000Z
END:VEVENT
END:VCALENDAR
