BEGIN:VCALENDAR
VERSION:2.0
PRODID:SchoolNow
CALSCALE:GREGORIAN
BEGIN:VEVENT
UID:4e881e82-ba5e-11f0-8a2c-027347f9d4e7
DTSTAMP:20251105T154425Z
SUMMARY:Parent Teacher Conferences
URL;VALUE=URI:https://www.canoncityschools.org/schools/washington/calendar/
 8779078/parent-teacher-conferences
DTSTART:20251111T223000Z
DTEND:20251112T020000Z
END:VEVENT
END:VCALENDAR
