BEGIN:VCALENDAR
VERSION:2.0
PRODID:SchoolNow
CALSCALE:GREGORIAN
BEGIN:VEVENT
UID:1f48605e-ba5f-11f0-a526-0affd0ed08b3
DTSTAMP:20251105T155015Z
SUMMARY:Parent Teacher Conferences
URL;VALUE=URI:https://www.canoncityschools.org/schools/washington/calendar/
 8779079/parent-teacher-conferences
DTSTART:20251112T103000Z
DTEND:20251112T140000Z
END:VEVENT
END:VCALENDAR
