BEGIN:VCALENDAR
VERSION:2.0
PRODID:SchoolNow
CALSCALE:GREGORIAN
BEGIN:VEVENT
UID:4c6e048c-c02a-11f0-9f64-0a58a9feac02
DTSTAMP:20251113T004715Z
SUMMARY:Beary Merry Expo
LOCATION:Washington Elementary
URL;VALUE=URI:https://www.canoncityschools.org/schools/washington/calendar/
 8792786/beary-merry-expo
DTSTART:20251212T003000Z
DTEND:20251212T023000Z
END:VEVENT
END:VCALENDAR
